BEGIN:VCALENDAR
VERSION:2.0
PRODID:-//IT.NRW//Ical
METHOD:PUBLISH
BEGIN:VEVENT
DTSTART:20260422T130000
DTEND:20260422T000000T130000
LOCATION:Lütgendortmunder Hellweg 212, 44894 Bochum
TRANSP:OPAQUE
SEQUENCE:0
UID:
DTSTAMP:20260421T142135
DESCRIPTION:Minister der Justiz Dr. Benjamin Limbach besucht mit Vertretern des Westdeutschen Handwerks-Kammertags anlässlich der Werkstatt-Tage 2026 im Rahmen des Gemeinschaftsprojekts "Handwerk im Hafthaus" die Justizvollzugsanstalt Bochum-Langendreer Quelle: Justiz NRW Minister der Justiz Dr. Benjamin Limbach besucht mit Vertretern des Westdeutschen Handwerks-Kammertags anlässlich der Werkstatt-Tage 2026 im Rahmen des Gemeinschaftsprojekts "Handwerk im Hafthaus" die Justizvollzugsanstalt Bochum-Langendreer\r\nMehr erfahren: https://www.justiz.nrw/termine/2026-04-22-0
SUMMARY:Minister der Justiz Dr. Benjamin Limbach besucht mit Vertretern des Westdeutschen Handwerks-Kammertags anlässlich der Werkstatt-Tage 2026 im Rahmen des Gemeinschaftsprojekts "Handwerk im Hafthaus" die Justizvollzugsanstalt Bochum-Langendreer
CLASS:PUBLIC
END:VEVENT
END:VCALENDAR
