BEGIN:VCALENDAR
VERSION:2.0
PRODID:-//IT.NRW//Ical
METHOD:PUBLISH
BEGIN:VEVENT
DTSTART:20260422T130000
DTEND:20260422T000000T130000
LOCATION:Ruhr-Universität, Universitätsstraße 150, 44801 Bochum
TRANSP:OPAQUE
SEQUENCE:0
UID:
DTSTAMP:20260421T142159
DESCRIPTION:Minister der Justiz Dr. Benjamin Limbach hält ein Grußwort und nimmt an der Podiumsveranstaltung zum Thema "Diversität m Rechtswesen" teil Quelle: Justiz NRW Minister der Justiz Dr. Benjamin Limbach hält ein Grußwort und nimmt an der Podiumsveranstaltung zum Thema "Diversität m Rechtswesen" teil\r\nMehr erfahren: https://www.justiz.nrw/termine/2026-04-22-1
SUMMARY:Minister der Justiz Dr. Benjamin Limbach hält ein Grußwort und nimmt an der Podiumsveranstaltung zum Thema "Diversität m Rechtswesen" teil
CLASS:PUBLIC
END:VEVENT
END:VCALENDAR
