BEGIN:VCALENDAR
VERSION:2.0
PRODID:-//IT.NRW//Ical
METHOD:PUBLISH
BEGIN:VEVENT
DTSTART:20260424T100000
DTEND:20260424T000000T100000
LOCATION:Staatsanwaltschaft Köln, Luxemburger Straße 449, 50939  Köln
TRANSP:OPAQUE
SEQUENCE:0
UID:
DTSTAMP:20260421T142041
DESCRIPTION:Minister der Justiz Dr. Benjamin Limbach nimmt am Pressegespräch der Zentral- und Ansprechstelle Cybercrime (ZAC NRW) zum aktuellen Jahresbericht und Entwicklungen auf dem Gebiet der Cyberkriminalität teil Quelle: Justiz NRW Minister der Justiz Dr. Benjamin Limbach nimmt am Pressegespräch der Zentral- und Ansprechstelle Cybercrime (ZAC NRW) zum aktuellen Jahresbericht und Entwicklungen auf dem Gebiet der Cyberkriminalität teil\r\nMehr erfahren: https://www.justiz.nrw/termine/2026-04-24
SUMMARY:Minister der Justiz Dr. Benjamin Limbach nimmt am Pressegespräch der Zentral- und Ansprechstelle Cybercrime (ZAC NRW) zum aktuellen Jahresbericht und Entwicklungen auf dem Gebiet der Cyberkriminalität teil
CLASS:PUBLIC
END:VEVENT
END:VCALENDAR
