BEGIN:VCALENDAR
VERSION:2.0
PRODID:-//IT.NRW//Ical
METHOD:PUBLISH
BEGIN:VEVENT
DTSTART:20260427T110000
DTEND:20260427T000000T110000
LOCATION:Landtag NRW, Platz des Landtags 1, 40221 Düsseldorf
TRANSP:OPAQUE
SEQUENCE:0
UID:
DTSTAMP:20260421T142135
DESCRIPTION:Minister der Justiz Dr. Benjamin Limbach bei der Pressekonferenz zum Thema "Entschuldungsverfahren" Quelle: Justiz NRW Minister der Justiz Dr. Benjamin Limbach bei der Pressekonferenz zum Thema "Entschuldungsverfahren"\r\nMehr erfahren: https://www.justiz.nrw/termine/2026-04-27
SUMMARY:Minister der Justiz Dr. Benjamin Limbach bei der Pressekonferenz zum Thema "Entschuldungsverfahren" 
CLASS:PUBLIC
END:VEVENT
END:VCALENDAR
