BEGIN:VCALENDAR
VERSION:2.0
PRODID:-//IT.NRW//Ical
METHOD:PUBLISH
BEGIN:VEVENT
DTSTART:20260508T000000
DTEND:20260710T000000T000000
LOCATION:Sozialgericht Münster, Alter Steinweg 45, 48143 Münster
TRANSP:OPAQUE
SEQUENCE:0
UID:
DTSTAMP:20260421T142200
DESCRIPTION:60. Kunstausstellung im Sozialgericht Münster Quelle: Justiz NRW 60. Kunstausstellung im Sozialgericht Münster Frische Kunst zum Jubiläum In der Zeit vom 08.05.2026 bis zum 10.07.2026., Montags – Donnerstags von 8.00 Uhr bis 15.00 Uhr und Freitags von 8.00 Uhr bis 14.00 Uhr, findet in den Räumen des Gerichtszentrums Alter Steinweg 45, 48143 Münster die Ausstellung „Frische Kunst zum Jubiläum“ statt.  Im Rahmen der Ausstellung werden die Schülerinnen und Schüler der Kunstkurse der Oberstufe des Johann-Conrad-Schlaun-Gymnasiums eine Auswahl ihrer Werke präsentieren. Die Eröffnungsfeier findet am 08.05.2026 um 10.30 Uhr statt.  Plakat_Sozialgericht_Münster.pdf (8.39 MB) (https://www.justiz.nrw/sites/default/files/2026-04/Plakat_Sozialgericht_M%C3%BCnster.pdf)\r\nMehr erfahren: https://www.justiz.nrw/termine/2026-05-08
SUMMARY:60. Kunstausstellung im Sozialgericht Münster
CLASS:PUBLIC
END:VEVENT
END:VCALENDAR
